Package: zellkonverter Version: 1.18.0 Maintainer: Luke Zappia MaintainerEmail: luke at lazappi.id.au git_url: https://git.bioconductor.org/packages/zellkonverter git_branch: RELEASE_3_21 git_last_commit: 2c96696 git_last_commit_date: 2025-04-15 12:07:10 -0400 (Tue, 15 Apr 2025)