Package: crisprScore Version: 1.12.0 Command: /Library/Frameworks/R.framework/Resources/bin/R CMD check --test-dir=longtests --no-stop-on-test-error --no-codoc --no-examples --no-manual --ignore-vignettes --check-subdirs=no crisprScore_1.12.0.tar.gz StartedAt: 2025-10-11 16:02:45 -0400 (Sat, 11 Oct 2025) EndedAt: 2025-10-11 16:08:57 -0400 (Sat, 11 Oct 2025) EllapsedTime: 371.7 seconds RetCode: 0 Status: OK CheckDir: crisprScore.Rcheck Warnings: 0