Package: clusterExperiment Version: 2.28.1 Command: /home/biocbuild/bbs-3.21-bioc/R/bin/R CMD check --test-dir=longtests --no-stop-on-test-error --no-codoc --no-examples --no-manual --ignore-vignettes --check-subdirs=no clusterExperiment_2.28.1.tar.gz StartedAt: 2025-10-11 16:03:32 -0400 (Sat, 11 Oct 2025) EndedAt: 2025-10-11 16:18:45 -0400 (Sat, 11 Oct 2025) EllapsedTime: 913.5 seconds RetCode: 1 Status: ERROR CheckDir: clusterExperiment.Rcheck Warnings: NA