Package: biodbNcbi Version: 1.12.0 Command: /home/biocbuild/bbs-3.21-bioc/R/bin/R CMD check --test-dir=longtests --no-stop-on-test-error --no-codoc --no-examples --no-manual --ignore-vignettes --check-subdirs=no biodbNcbi_1.12.0.tar.gz StartedAt: 2025-10-11 16:01:57 -0400 (Sat, 11 Oct 2025) EndedAt: 2025-10-11 16:02:41 -0400 (Sat, 11 Oct 2025) EllapsedTime: 44.0 seconds RetCode: 1 Status: ERROR CheckDir: biodbNcbi.Rcheck Warnings: NA