Package: biodbChebi Version: 1.14.0 Command: E:\biocbuild\bbs-3.21-bioc\R\bin\R.exe CMD check --no-multiarch --test-dir=longtests --no-stop-on-test-error --no-codoc --no-examples --no-manual --ignore-vignettes --check-subdirs=no biodbChebi_1.14.0.tar.gz StartedAt: 2025-08-09 16:02:45 -0400 (Sat, 09 Aug 2025) EndedAt: 2025-08-09 16:06:35 -0400 (Sat, 09 Aug 2025) EllapsedTime: 229.7 seconds RetCode: 0 Status: OK CheckDir: biodbChebi.Rcheck Warnings: 0