Package: TENxIO Version: 1.10.2 Command: /home/biocbuild/bbs-3.21-bioc/R/bin/R CMD check --test-dir=longtests --no-stop-on-test-error --no-codoc --no-examples --no-manual --ignore-vignettes --check-subdirs=no TENxIO_1.10.2.tar.gz StartedAt: 2025-10-11 16:20:29 -0400 (Sat, 11 Oct 2025) EndedAt: 2025-10-11 16:23:04 -0400 (Sat, 11 Oct 2025) EllapsedTime: 155.0 seconds RetCode: 0 Status: OK CheckDir: TENxIO.Rcheck Warnings: 0