Package: CRISPRball Version: 1.4.0 Command: E:\biocbuild\bbs-3.21-bioc\R\bin\R.exe CMD check --no-multiarch --test-dir=longtests --no-stop-on-test-error --no-codoc --no-examples --no-manual --ignore-vignettes --check-subdirs=no CRISPRball_1.4.0.tar.gz StartedAt: 2025-08-09 16:06:44 -0400 (Sat, 09 Aug 2025) EndedAt: 2025-08-09 16:14:49 -0400 (Sat, 09 Aug 2025) EllapsedTime: 485.1 seconds RetCode: 0 Status: OK CheckDir: CRISPRball.Rcheck Warnings: 0