]w8zسf614g idOa P㷑$̇/2$}}vfӆ`[Ja$ ?an6ŧnZxf6 0n?3̆l=C͝U~$1 g3:z}_`}F3W!j߲7m2.K\,} ,aAn9u)ÁsF_41:h^u}KX߻ $FKyޛ˫)#0GBq,[ ^D6҄E/xѶ*߶mqEo˫aմzcW'삭&qǔk^>x_C%Q^ozɨ.TǮ{anxH,S}nаeG$r1x*Dn[Z F(|fRM訞;^bH$ВZ;q\ChIߡe=gEwAilڂQwUR/[݂Iv dJ]ȜEKE5Cs`ǧQ7@׎O l9O]Tŏ!X,,U %?N4Z-t[Aza55Y d;vi #q_"8[ K_;~V=AQa)@Aێ3:|WyAW bBM%>): gX)M\9ͣ3ATnkl aD7BϨB(8itD ǤeQ("<uC3(4(FAY.^ӨRXmݒQNGzPr+|r30b(VeF98~s{Q(VyU/+2J^m,P- 1ԛ%ZN>QR(_I>dcH5JCo2GJPZ%RO }? |̮UX!Dif( ÁjI!{B1yz0JK%O;dsg5eZW2:ְˑKbU1rЋբ@,ybZctՐLJKoK(YxOEt!0EVӋQ?/R0{ ʣ Ce.R;!ǑrK0s{TPCKa-OI_)0zME9Ju%K?  rH]P )fzI_0oq0:4?flGcYee%t$owG uN #:M6p *2 XfDER.f&De\;r_ Z؂hi*P.WF;M 喺 UDbK(Q/n$ 2-ǜѻʌ H19V'~Hw0'.>w]43SGJށXz$HǞb &G%Ͳ&G׋j[8a0 ܐQ6Ԍ,*(^](f%7ybqSECQ$}7ܘEW j}rc,tHߩ㊖2cKc 1Q]AaEЅ WnQ9b,XP& ؄F=;‚`E%h(<90L-K+};9&Json:B%B{b:DAE{`l8`Yb>}MSۯ[)5O~[a.(\Qћ/t؃*w\^Q)ȺM߫,!'PSH.B >kTdLK55yбd*Pi K1қ/XC]@iz-8hWS LKPWR0 8as쐯=u)bnH`}吽6>%4#Nt0:b7x "UL\:x j֋%l7bC'Ē@xlLхjŌ `D]3⟪PykK۰l>뺽Hw;ɧ ??QD\.*QղƓ#ir !68j7r<ɿ*4~qo͖%2VTI ljdzA{yzP]?^:݊I )?349gM*efg!v_h@2'ySmO/7.DĉדoץVop3Y8MniD2,Yzg͊F#uyAMܵ6_ZJUY$] mtv[9V:FϣΠL8Xf!ғ~OKtezA(]@Yhnf1ŒVyh9$JSrai;b>=8W@^ yϩ*_BuMR%.avk h*LM\ͪ@snEmogg-N͠Ȉl!]a}l=uZ] oJ}ZzSW͓G:fZµ]>em \U.Zӫ]aMv WaD==P ?lF(;'wP^Q1q]t常v쁮5*PS4G/Sa)+G2}Q:N{61ܹ%|g~#t5 ߬*lx ӄyV17ua&b'DM/0^>٠;LSpNS8FES+ElkA.bc;f{SʧR.Fq)/@}DއVzKW.]E^^y1[$ۆ50Iu i D.sp[B o-Ż.I% ;-wm[H+.%Iu]P QS0J,o5=x"˃w1=]RKv)ԦCj'^Bgid07 = ># -b1: n*N+U:}X]R<χyַ ׫ SN]z޷9rUgA lfۣ5(ݖ=c-JRUnIQUuO6摏`%G·OxxYBbCx8 #!fcsUJjI=OG{=s=ԭv*wcL˾%Zۭb *K*ʷ$UؗYV \hg @ͩxBA DGƠ)~+zvB*ATl5` } OJD6SW:0>F_oq MD*Ne ~`t'dWB1fxKEJx8ޏNPզ>'"D ~Vo'dRJU\%\($U+Qql9( lPF_zӿRҢ +NjU|¶}ɉYH"'%Gմ$"с39lʀ[rLg8mHZ`5 b|8_GlXUد(g2TģX/yd1OgӪV\k4EE鍘&zXEP*Zl R**fICX)گl.oITc.d+>x7b|Xkє֌Aǐ8h;Ho`!:HwhKg:ӱ~ױ^7-/:3RX ~/)Y%1w7Kp ZmLl j5bfGNmV<ْչD[V;Mz$D5*pc}ikKbA[1x7/\á٣0쓪ߦw /k0x+jbtJl|ĝ\^%p }1m"-BA+[q|(2$ 3ݒ~sAPbHPTl蛒yYg %dG~B]Jp拽=ft:W(FLp]48%Z;XL=̩zsYf4_`^%=~o%x?Gع p + (/ l)㨼椺qyݖGH$IEHb{Y^X U!##GxL,j, {Jc;1vc`? FA'pjy1wh h Lr,bab+zʢݑS򦒝<@K%P 4 gͱ1 U 艓0d)6ZOt RX"VmIw ւB :['dg/^&P~Q#'WMkOI墑,pTR]NaU 0e漅PA| YOyZ#Ym҆+W$_wR>f(芇y_uE& Cп25!hn̥SNxŃs\HLSKkbFc$j' M u[3~]` 4ges+ƉM(wj,7hV9<0DDӭ ;R Tm;iG2c¢5rraQyd Rx{{?zM{M%M fώ5}4}6-vzޯB`=uv`A`=~:x";r캭NӃ]` Ad<x`!{~:}{K?<39дwZ3iv݃] uv݃]1v݃]ڃ]`Uv݃]`;[{`]{{' WJ3Z[ A.03@#Zy0߰1u$xTucӴ@IɖREP7XM"7vBcV vn) Kb򺂉dӱôF]{TW@]N0r+dW }akZV!tU  z ,3ϥCU0U:f>eUL$+ZiD2N* !=|M.GS Ю%qh\&6I Y@[T" .4z `be :ƍTȈg1k\0V`dʚH*G29=gA j۫k‘XF!!IfL 5θɇL ¨4TglI$gIz@,gR:D K seC)~I0mf>7 tRLtD$I|0"#K?Pi$ed؞ږvotA|A<%<2@C*h\dgntD;:R8fmH zگ ߱뽔cKI>~:$ h${`z* p0`ׂ{l$ǂ^;Tzl'G=v1:<4=StM2ch4fTς޵i6Ѝ! }maɖv(mHbֻ|4fDu~?RF nVC ,'rC;]$OqhMi'FA;?7._.0PQ=R>=?,s=hH"Es&hŏ W2 &(FRJu"tɨ1<]x2 I^P}pqO(5|ϫvo<xd|p:/d$J!ǻ,S='/k*"m k=o[hOg0'灓cZ~}vԃ =5~?Gso7H!9 8Тm<@P7P< CO-d}f::@w [נCAηxN+ko*<L&#dz0KLf `2=^΃ƃ`29dy0V;M&Ӄ9`2{$dFȃ쇠 ܢGH[ U\o$V@[V_4q?|-bg|3e6I5&9LLׇ5oh&fE3MPّ7ikOj*`bU\hK[\i̧d"^[TG'~%HuRS ]*`9WRlJ UiD%̅uQDUk$p*;M!n1 ]Xh'̔Cj!)a?rd-?s&z3<fƊʀT7a6BS[u li6A/g[{Ҁ)`%l11;Tl aσ۫EU(Q$tD9EDSm@[`'h!:|rõO֌0ɡk:u< 5yǃaQ@$6jjT}$ "h5(%낢/†$ddUCy&43h<X?nl k&S lfZT0JrFeaRQKq㌊1US☓Q>_ߐ-Fy EBMTH%,^L*L _Wu(-6EVJgIߊTMޡݣU>ײ\K$Opj*'}KQ:rUUO/(ٔAE|iSԦVDj)+pR%֧ڞ"5l,n&*:4`Y騫!ni:&̦zEġw-4f:Q,߿#*ALuamfUkzPֹPMg;32 ,lО\lGxu |* EZO5"J+u p](m4al4e/9.8:m[ewZ\\԰lE;>L wNFS0K'fBujVۉ3qDŽZ~0|KLWtmJBSRnm;LA,DԔь&Yn#8oBv.K+7JmGRR'ol[gtD25k az?88ȇUz" `Z#D̢A&ovneb~E 'XoPcrxDg 1EESgCewo\/ ѥi\UX#=0s5xs`XPidt!((^JS*5K%>J8IW 'etHY3zqd2@_JRodFcU .L 誈t2Z7mS=S'{` S?Z٢>^ 30KT9 CҰ %qFAY6WbȊ.pu^X~g326j\ͲK|W/[SZ0%f5+ Á k2^`zn+~,F{6O(yX 4cn)7j`a@' r.3? ߹YYV>4Kc8Z(E30[L /q$KFtUqa lq}(",F:vϱ|dD  Oe.vK@XH.[14fJvh@cN!>YP$ 9rĺV|2D41%*$!}*XV۷$ӎj\2 yHRfdokGX-O@pMyw&ϿIy^8 mu8Ϥ)m^Z@@U3F;Ys޹M;`'\br,1R*H؄iŸDKt+V8$NX*y+Ǔvr[$Ǟ #cÚ@+;M8A \\vܳx93%4`Te_bÎϊQ҂I:$nq9xw֢1]\VF; <^^p=Ѿu咟\i}QmO/RWDK]奮RWyU^*uˎE_m.՞9[L'( ?axוO}4r[]czb`ٷ'oBR2woE~]];nOĹ{~c)|;?}HXN4G?q)s1z3ɇ|u-6Wۿ믿W?IM~GoxdG?>WmOspsH?-l[dMrׯ/}伕s*/+,oll|x 8q">u_>\y?w^u ׾3=oq'~w{~t_YZVn~uU|ڗNKϽx0]K^|gӇ~ w>_q>r~sv};I\pwʥ}~㫮yn8zzꩧjO'f=&<":ߩDy߮w_8Z߿?x{sR E7KԽ軾}屻ɟ훿|G~7{(Cv݋G'~yN=_;rgP:/bCoWJ/v\$RwfecЅ^m/~e{QСC{O,-o/̷{/n$?3./Yyg.?y.G?-s\?{Y}-'>.mᵟW^y|xu/_~ܞ_|ˏ?Ͼh^?~Ç_Xyڽ/|֓/GnyYW{[?nG /|9g:}/Y_å?=ǂ(E[sOl?oz{+o7OV[m|/_hWso˛/_~%f[c fdƖ-,JN "KJ$kߙ!y{Ϲs9{gÆ {}c?U3S5V{*Qoґ-j(ѸaEzuG2_6ڣx?w_\V$,2ˠ>>MUBt;FޜLvrO;b{/Wy6!} Z<(d*~EG&^;5{P9Gs KFfoLGVS eQ[8l٨~P;!LrPqc(w#nu7~pt>UW={|XJ)=|L6-p(T@ _여z>qDdӹo?rMy3]wt R4irT~``#e׉{ςM4w *o(^8WZQ\I+OUpʲMx0)((+DY/CQupuS~#ӍD +hg{9X3|7_mX%qܔ@%)n>LIL;dW}Ahؽ+mu&f[;_2 Qc;mG}lIgX _9nx>Q}($ F)·R=2ߠ~CI–Q9׿4-\{ ;x>peoN?XXQ\Hlg8ງ(&ރO>} îʳYpd֍<( _d7ڥhMǞkk|3:b+g({Tl|~oP_i# nwaE>0~'6↔((O+vC_/t=*_Wb>I]Ywx(yxz2TyRL=_Kp n3N'5[̮t=sb@ Z0; uswTF2fͧ 0q<Ӱ)Hg \zZh]OHT+$.+/IyY*p)psͨ)TgjK2Wp&5mERKu7ktޕZo1n*r_sg8A;R+o+B u-9>l|'lc{-́VJQl G^{t6&`bW7S.M+ ?r9~"l[5HFwU9ˠhmqno+h"/;^BBL:Ca:Dģ.~c[CCUw 4,Hakw`/ݮ':# 'p-Y 739wɰNc`:n<G0..? F̍EޙH+r UMۿùu˞?Q;X{D>_$ktF5ig1CJT3[oƶ}T6sQb,8vǎ'l |grʪB]m)Tj0\Ӻ\62;S> ot?4Ukq1SSo&LDzceջtgP,DÁ&L/"*\]X'}vK:B`{&f3:U J~|}[\ [|o.n0iJ~*VLokh:ߺ؝BCUJFGaIq <%D!M &6ga=N{ mQ9䂪m__ t5S3tttg2Dutn)-hle̗h_OQe`c'ȿ9ڟ B|dr4cqׯm JA{N4'+wfU޻yw-ҧq{ M&*\Dn$i釉2\sm/˯}]iLmuybs.FpшUz2sw?͜>Ur~ۭG;ԁ2/|URً֧%Z? N} @7l< R^<||tLLju9ۋ|ӟf7ռIA'e /۞=J8^wi˖-x3㝉6ˉ1oZ3ObҺt>Nʭ9`ȭ\rQeѬG)K8 "$1Po8k i'[XL! xUSy42G<['z-9Jg^Y7BG]I7%~Q"K=wz籠 W<hcW+ss`s #pIjan]phJׯX|k{t_h|e.3kOcN{-cWs,If-Կl/7yg*$WqDӌ0+*,)6l`<=P-2Ύ!mk/S6ƅ1*WU䆆ct[[MX=glpsټ~Hz{ҕVI v:b#!6iL%7o3I2+av&bEE !)~4^9^]#|0&~ۨܵލ<]=)5:GS}?;BG5ޢMQ'gێ⦞H+ȝsi%jn|.; >5]GɝtWj4+Pϯ߻8'5WV'lw$͘WoQxS\ W?R0( WѲ[޴heZ>nwR$]V3b!lǿqTFZ:GL*JA7Q͞iFrK&uw9>e:l4puSSoKo 5߽1LE%ݹ|-ס ^]~7Em]&#cʖD(&}`Bcv;췡v oϢ:ތYiM dh͡N|liFd'ݻIVߍMuјF. ZVd0{߭:b0J9K{;h8Zn/aXʳ9".:w{:QϚ| dWfέ4E|́OK)a)章vY+~˴w:Uiu\nW̠b!,|V˭{Lҏ&;KQz$ j,S$禞֔m}.`v9 1a>JFq|̓5W[uc9Ng5)qc:Z#|U}L>Ψ MW~( ߊu a;Z5WvRFw5'f{2m8Ѣ""$#~oumfXZOOԧ<,)CɭgNyAiVd7-V\Tb*W缨Hxc:"*Fct2MJ~R' J-SʽfQs8|<$]>$+ľ&V.3g8TޠmiJWvX A,n!sXM>\8'cL1)60Z S"Nnrvuc} ޢ(F\편`ŭr| KupN5mQ<2f8Humʽ5c_07F@ڋ_P.lϣJQН=,slK& {GS K">`c;cEno%v'"8n [A[nd\]+֛v߄jKuxӞxyK]Ŭߌ8R]6u!ͬ^f<;lròzk]'LGM\j/_ !=}sBz^!&ҧr{Rp ӳ({ham=5NԄ|$pEq''7:gGOD9kYz6HgA"?oFPGS&pDtI%WiIݤ.`M n{v*iT&p.s8{@.ԋD7nG.l:$=k.Y-<;i+oqY:YώԒJFZkq\-eȜm.AM0^) !)(,'o8p*DGJ!rU;ƵOi>H/ƸK{|qu(b~뺻dA [_ ՅL J5[_{W[Zc'Άt1Q/_mQ9/W"/'(zP*Մ?!EjƾBC]rDJsQI؁q\+rG1.zJo&dU-H0ClID^9ioKauV[IqmZcYr%Mw 5`ܾV+@G_H. gP +u6.n|*=[]InH^cS-OIu.Hїu"fjhfn:ꔄ߷ņur8RjW=e\uxTZiC7K& ={=!:ۅhT@N1vy'(n%ri#= }#GIBϳYLy%6^D8l}F-^C[[ X" ;XMNɺ8 C1 (J'fnUTnzjFЎ7/Y>69_lڧ{:@5Р:]bאZ}p.k/#ii\nVi^q}&x ?hW=vUƬ[0O7}Ղ*rh}5Ma}/ R ?~TvBzQm9.JdG:+ 6eܚNJ+M;t̑`tz7"rby݃W&s;ApU >O+@+]RJ~8 s'ή0dr-RI)_ȍQqs5E|49!%a39xktJcbD[" 詫 }vs[#nSLn~u='>ʏ ¦c8vYWت&Ț@Y$A)ض5٧<:a'~ .FΩl57{S9/*,z?rUi݇R'1^yi W2N\_ٷg6gۏ=4{3B6"v,VD`UC{8y3XN0`!3\A>4ɹ!M-P?<} } wH,p[ѠyM i]k\?S 7\&0G><f]x킑;w8\ $U`S8Ke7hOgoabbJ(/cf6u#E 4EoX8@ߣ-CYgtSmE¯_4K=CP<*Oi C'TEꪪ3HF-UafkqGpqfgpdヶm f֯wٷG\vm 3]u9;/wVPj?P~C/҄܄Z;:ᯩ|ӡgܻe?!u5D)Ks=GS3Mkڷe]CvYrY}Z߳!oI] SZ[؋'= ~1(h<Xだq*&Kz!ynD(K:5ejrr7jA37wJm9,ɖ;tLl,)*Io<޲sw]JEl3?\sZ`fzt]6B`Su[Gw(^ney2|0ke<_Y_؞\\Nnnן\T T`]م"*9]?M7Tis -'ѶgOu;Ho2m#-ݏ\B~z|UZj+l7VgnJVۼ]&=Ojss0\I!6ZAJjו~ TU7GUڈrwz<5sn,z{ʗ-T)jW#ou{a͐@zpn[B6pH[e'{dr=UU(; :׃qw^+Jl|YG/ٟHmxXsI41 H[x _TY˭ElJb>pu_m,& \!%x͑[MUu붾dKrTzr8}1IWX(qsrB,&t& lYw'r2G8ݷ `$ʅ'buue.:cL#gSN;RQvP+}EwSXO=%=.}ZzoB^_w{Z*B'Kle6jB7@mE8iXv2 Lȹ|DE̖^<<kQQF#&~e6H?1xϒKr T vm|PT7UN7"g;Y[%_}Wmuz~??zs%%Bw$bQn=y~؜h.[hmѳUQ1T+jܞVe]N 5<{h@nڡkeZ|CG*xY]'@JUyT&nP鎒{^+vx gEli\9? b8U3 M?o/5*29ɟu|^ϏFirilOD}z '| 2*XĠ"NwkȪbw\y]Izxx B𙅭G f=IⳘi7?8--%j_LJJ\g7Do0 HD[Fyb/<) , Ew C$[p={ T9AI)d0>;.@*zpcU#}$@YU̸A7@ Eu5wyG$oc@AW$Ŝ5ՖE24~O/g$pKɈK>Osm=sjk?E, 3CGv2?K+qG%+[){$ɅL2|#Lȝm/\M%wTO2]e<aA}Ukfʋʹ!fOX2ʎ[|yLU>[;^G?ěEqn[قmIgg/Ƿ1ۣ<>?T$ȴSƲB8Yƙ2jii%[ 4zE5V#TH./"oGR[k aGsjjtNKdm:F<|Ǎ4 ͝ =ج/⻬";oDWTGQ2-lנ,OBlcLLY`oOr0%|Ϻ޴^jD)RzWO/}-ԵTrǟ5 =3cxd냣:O^d`"xse3Qޟ2if6EǨM4?lFL[%WU aW?x_&HsK$MPuhCyoϹ*b|?p+eC@L 2۶m+6QDZ%L;Á-U⚧o,PbtI;ÑIsGuG)EJu5ҹ7շ+5deY6;뎸>/ JvÞqgg}*#DLRcSfvTd|֋& b}w&ߩ)yӼ9=ߥb9nK|;<##t P(^/LxeD4TUUSV[ׅM 7QW;!OY9wȑ Ӵr]P&&َ'.W!o=3S: hbBN\(Ad$]4rS&Jˋ{pڝ/mu}Nځ~K5cw71ޙqi )w|wrСcGDΙ[S4> GGE%Q;ͧIJ-A5)i&YFOmK*joqJI5Jo@U"qj JB\xsL6O|e/Q1ɔ[ JG,5d*Վl* 7OW\,}\邟m[;c9hl'HnzP?42x<3oX~ԅha%8N}&7y< [EVNYk\Ȣda]ii6l$}> 7J64zl(r,[{[35}(U/j^C1:-hia*̃L6%d4 )zr< ZBW{ Z(,`6\si̦~^]+g'?+[_ O@ _fb1j{zG| 1ww -"8.(0 JSbz31 Ȝ:I *τ 7lr; 9}e{8NXל~kAz9lXȒPLڅj`Lx6z6to!t6z߅ ipkrid9DK)BOxjSmjPєamkffAXӥ>Mo5hN?ziv699cbt. @%퓎c׋("ANff@ƛj<:Eo:rcgߕ t؂tC7q 4M;13d+O/hb'>ixd ߅zjD,47-ާ]VD774MWQ0tkp2eROhu%W)ofwI.zwAH;N~х>É bv}`4ͳʪ^9*!yHsemIoO)ٜ} sNQSr1gtg=u և o̊g>s9gKiNJ&K.ƁUCa٢NP@k(r.\K<Y3V x/ 0;7=zjn#_˿NC0fWS|J7tt4{Z͖͆-gs峟 :Ife[̗4TO[arJ^캩nGa=I'}9#_nt.xz6^!UWْ"sjgNxc߲:q:u\iuO3;ao 1fmM? aLx˼oX8E-,7\:{ӈԅsyk ?x N<4=s1E~rh;^97q; lj7{zISvkӚ韔)>s,! i#[fIp ZSZU^'$EmO9#+B_: u;wmϾU0Xki~ r>Eveyba3gƋnz:%noVw_Fqza ,{%wB+j*~A^HWLVѴxJG^} t֎Z歆H]=ש=d k*|拨㩎|ѪkӀHBZ|RFsF+ yEʼERbY,Zc/Wи+ _VkO[grw h|h48<ʙzyk[>[#XMPY+_x1i&ьƵFQc)~wߵW7WOY?Jӏ{S~Qp#>s0/Ge,)E'Ko1*:e0waݎ<}#/wԔ/EhEU9ݢg͵y.a7+L^^~RK͈Yq~5W'652|NoaTEZzs\]dv=j#d⯉ ^}#6K =S5|G jJfx%.Y@S&u[/J)r N+˹򖝸zM5uG/1߹Ð4?pjm;Ʀ2%l&Lk3>ߙp(:v˺Ssq=}3='Je>ӻԇ[M7G?(rуdd:N-~{axLLmn5#4elf-G掱m *Ydg#6ylFvShb/@-_*lPHeK(} :!22N~OupV䬻BݣkB^o{o(DP|zwPJ*ME%6]/,[… 'N{%6i/*S/lrM `TR'կ%_9mLeTTTvekCè3/)i7Hows%ZsK,R%-UX7^Tacɋ,Y:2$T_L(rs{lt4}X B,BY/M kwp_V=ԨqwdV; #YWƶ\G!&\>8goyp>zEz]Jm}8ƌ5(9ss70 a[0v]j|_G9 J}Ii9W{m)pκWP>j9鱻x:"`GƂ[Lǜ]]DY/9`y 0jĆc[t^hlbw=vnFRzh7mu#/c`>‰IxM;%@7:͌뼖;36lP*ڦ}mWp VR]pSuZ׶ј|1xķK<ڼHP":y'#5#2 pJS$G9˖R!f*gV“as;v< [/yCkkyuV"lZɏ"\Q䢣cL ;YuT6г ]?~}^B뾬ǰ[&SpK`0/uff߱4{Ņ8Ott=&CqqrC[{S2ȍVUUx+`];,p%c͑LX:/9q䚹 Tۣ/s iPp;o{vC?zk|!ScoٱmKz0{",QK-~oĜoDH@{xe$(5(Ɋyluya 2ʨ`G˷=7_fJZ88'~>ളˮ*Kx08!蕹u4T́R}t|Fz8z##G_)q[+qF]Tݗ>s-VZmb]{ǧy J? Up9+hŢ\۬x i5Ho+^rnL@F\{ێY шZy_|3#-8?#/DYe*+ R)Ho{wwwZ<Km^CjyC,. (~]ŃPNiU" ;4-A35uȦ_:n}ڬ=Vɑ;w?\x(+u2iB&S壹wXǛ3j)Uh0rZ3Kony*inM ,/Sciccc1nHqzŵ ogf5s_YF|!5>͎iu=һYu7keZ ܽ( @UIIgړmׇEQL'8JN{Ñ~Cֵm^eNNAJii" kB87ߔF"X&^=$hI ͽ13wɒ+nzK;w8O6H#E"%(e "R9S9 c`\%xgsWwoY&M6{"m&>R+@b;Ⱜl R,k|+ O]\kMc|얐%@6 V\]]Ɓ^%9f+Aւ+/&E~+fc)Q{B2q>(5p r_s;,H0v$d_\\[plpإ($O[G/K.B2Om ԯ;Ev~5k O^/o *KNVٰ,&^%Kˋg2i $-.1x` n^@yi81!KP?,+d9ޗ`_ks.D% m7y&*D( kU~&8@ceUO+J@tG~=XcX_il+]djȫ@-cdx\"0I~\dPb-ʥjׅKGvu`k\ß~.@WU]40ԢYZ";ע_O/gmM? (ēJSN{I~G"?KѮvE5H9{xE+h9עV!J\w.3\.P]$xe5(vE(^g) f8 .IZW(7;!k9?I.0Yb .2[M e"XO,gmeM;#KPI#p"Z#t %7p*lΊKB,D ^ HߓH;`Yy%++A! Òq uTeͭM"zUI?0i;p|%V,?[`?C_'xMk,h3ZNTFJKBp3E#C="W_EkI$BlK47~. aW\$LrBa.(/Y!+H{VrD<л=V4 l灆L"}'MP46R!i yx}h_`^ rEz) IIEI) a)`"`}$鹗#1" q#^AAAGSO%tA P'I# ! - UF QxOP_ATh(J1f,0 (7^}DNLp2(@Px<@R1^ qFcўDK d% 0yI)0`hG!PˍX_88%x,\F,@*)WXєXe XF_pQ#^Ͻ 3DPb!7rsh/OzDS~T &-G?:Ŋ@Nb ◥gdXcW! QP&K(aqDHU~O(xB9{ <(C`j(i0hA|oU*H#{x-IG'x8bHٖqabp`Z04~i15e1oYq(Heg8E(іv^Px4@o:2 0x&rLĈ~q& o51iQlp{ 5 ƇtuUZ>%?ZaY~֊x'SDtEY ŏþt[ydX=@)AC*X-"p$BII V&]HaE-bXJ">g4fRA9B+GL' Yd!g=/$~=-{OH"-ŧ- ǿY~`K؃.J8\⣯RpY7>`&}?%4Ȩ)=sT6K#@Pހ~'DۣP`b1(p!~eʙ@oH\8f!yPk4rgJq y Lkk(+֢$>^&@Ȋx.֔~Zz[#W; YX+%~ZoqC z+>׫.4u]Β*BA+%-B_7Djh4vTjR_ʀҾ G,2IbIbPvRе3-'SO%[RPmًqP5.ϟ)j`ў1GM%~,Oe:!!$տ7%WgoM6dX|P¢'VOS>זCdZ9aia8K7hj__::rπ?tp竮%5}'=N#pe#ߴt?ՋUy_;5P"j&~i3 /c ][1dQizxrwbEPZBkgu_+ We5z)|W+=:R{Z^B Ha(R*rPϾ-^vԓD$n06̈Ǽ#j {1GQ} %l/@E1.hx0s2u1Z4S/nuotXps9}DGow H-kō!>;=q_Q~AJ:XC2}U4y0C wGiBE;kO189_\_k2c:|2>>>y*+^ERAf5j4''AҩdlV0 Mr:o hPdeQFO_LFG]t!3xz.FGp)=~J1/MO}}|,|AY|m|BBH)u7fߙiwe*ɪws.bW"6rhF c}+aͯA.>)mߟ4fbmJv0\Zz㱺@RMljA䔬 8V_PSg +Q\{h,hjK\*3w%xjB+j]]_Gu\IoD'3;z%QLV7^KWh2)Wz\;Aem%e~56%_l9ىΓ,'jݯqkZoi>3xڛK#+~9-uzKBd q&ܸ [A37NSnȮDf*[8SJƵ:Vjcj%/I-doˀxH ;:ܸ3&}ڭҭD-uiG= <;"oQ5 "VTeRJ bg.-u%qduVsd":}wc9Ӷnt<ƆKETFKu}#<ꞜeV{ͬɛZR{o:57fӸ΄0^S49jX8eOP{#1ӥ=[Iyd-%b|:W,Qi__SaF5"T@BIj)=rH VʥU>[jAhέV\,]ok$\͕}]Q@R!:o[ENY(4Go«msxrH}Yptvxڦz\?ma8#y0Iܜ^QAӚO*#c3otY>N0CҬ/d½Pp%-BFb=@ U TF5`zuPRk}S3b2ҥ*NN38n?5o!BI3n%0R5 r?"g[t;]mrBML#+9vVr ~ uS?o۹QKBukڬ7Au5J$6/k9&>:ytίf,BVikF4MGeoa$G؊xC)3D82"KgmşyJ$@y7Xwy+q7c@8ՄҐQ08j1̦ umݷo,cv0*(Mjc1Z/paz?0B²1'ϔ'Zx+q:x8X0q9BnRp$Ctg-V.(-1f!@mPFR" 1^9>h7FMD7g񲡱5Jt Y& ]Td$9 ^ vC|AyL0KuO{3z#ZjiZ,p.ZB_/  :/|q/S9071Uu+%_X`٠|E1cc?'nm~<߲`a^&ń%+ ـY葑H΢߸IŸM^_0l(;ɐz)*?T䑫&D#T{q?;t ŠR+}6AoNVo.\pR?yXdWoDz(}R&~#:yN$ Lq!/d?֞Qy9$~B64!ˁHgUݝ 79VG|*=> T,'qJ0WMp?.Fޣv1oBPFf+[^⻬b$.rɛ_>[kv&GFJ26C!T]‘Utur~9@yZBu2^ZAηلl9:h_~$}pB{$8+rgёx=[I"`OCBO9pJ8CX \`B("-4fv?i# 8-?K{55=)z}Y!]}e3#:4hY/-g聜a_& pFG6ۇ`yR{&a^sŇ-ddm- xFEe>՜j?v*К@*>[NaXf%”kQ)-Js"7lԚ@r(e OSSz+K } V n˧u2;$0 |T^6a\Srx؞M E)gN)#\"w`]VL;>/ͨLTc>%w'gQ ^ޭj gvK_C87.h46vÔ9{_=0TWOr͞~qׂq"ܿ 08;_<Jr.hOf5QkZ rs",[dN$N ɧ\ߌ: a"D0›=1k\lYM$ ZM2l@QfA'`]6= &$@e\,9Pr\vtXRb}w: Y _{OI7{ϖOBZzpnTK/TC HlJS)vXJ:=-n:kjN İAضv$n>, ==Xh:h[\Q:U&6:(]i +Eu;~5kx;VjNh0x;Ul %t%E(zT8,|O}-αkb)IA63+' H4iDp_WXkkH Hj<+>@;X5ͦ"#mP[P$eL5D!t,FbmMűF_} Bأ2Q{€>:!_#&L:@C s~5ᅿ|D j UQX=wVt,Y<}[|*cJuFA^>h_>NmG}6H ^?ZOk|ǖ7vXg~sA{6:5e"0`\fyTEHhhC&\,ժ'Z`ezaQL?# ʎ'7qMy X^ЁN%FBFЄ]o>xz */,̴7 KE^ƖHy0"Ă!0q%E 7Vjyiu֤EzӞPmmŷ~/6;Nέ0.aSuYH\ZT93nWʃ$$ѭO467gd'S᷆v؉l@̦>MM C`ty ~WX;} SG$9C~i2N.kֹ\yBמӕ#l$bG/D=Rىm~[z:ob$0MP2@:ܶi$A[xAe\GG%bl4ve+NMx٨Iᑾ7Zi.ha u,V$jw13Y`zM|p%a_| u@g@W܇Y1`ҹiym昜j,C=zeFK!}`æ'\ی>r!!>$ :rz%ږtZ} 3Z.0:ݞ~=cJlѯŬ-A;onqOCjwә~\H% 3&4'9["J~te#nn/"̣zR.:zzbֶqpg{@0]x 5E n|HWеaUIPO6tj' 2dL)F.%`{m}ѻVMxs b |襂a|Fl} %Rܭ贪)8,& k1|E$_Ą"F gm ;ݲ3ޱ0TdI8gٙOVc1ztSWYN#:cg.sX\t_M8 3{czZ<^=){\;zbC> z85Ι=%=w Yݷa^uf\IжV|:EV ܡ?*BäZxas͏X9v20FEl|`eVP':]TEDۀ0DܒQMXi{b*=VP-+R9kji8VAmF`:JV$.~zY#lE3#<#<#<#<#<?lH