| Back to --- experimental! --- GPU-enabled build/check report for BioC 3.21 Report updated every 6 hours |
This page was generated on 2025-10-16 07:45 -0400 (Thu, 16 Oct 2025).
LibPath Version Built
abind /media/volume/biocgpu2/biocbuild/bbs-3.21-bioc-gpu/R/site-library 1.4-8 4.5.1
AnnotationDbi /media/volume/biocgpu2/biocbuild/bbs-3.21-bioc-gpu/R/site-library 1.70.0 4.5.1
askpass /media/volume/biocgpu2/biocbuild/bbs-3.21-bioc-gpu/R/site-library 1.2.1 4.5.1
base64enc /media/volume/biocgpu2/biocbuild/bbs-3.21-bioc-gpu/R/site-library 0.1-3 4.5.1
BH /media/volume/biocgpu2/biocbuild/bbs-3.21-bioc-gpu/R/site-library 1.87.0-1 4.5.1
Biobase /media/volume/biocgpu2/biocbuild/bbs-3.21-bioc-gpu/R/site-library 2.68.0 4.5.1
BiocBaseUtils /media/volume/biocgpu2/biocbuild/bbs-3.21-bioc-gpu/R/site-library 1.10.0 4.5.1
BiocCheck /media/volume/biocgpu2/biocbuild/bbs-3.21-bioc-gpu/R/site-library 1.44.2 4.5.1
BiocFileCache /media/volume/biocgpu2/biocbuild/bbs-3.21-bioc-gpu/R/site-library 2.16.2 4.5.1
BiocGenerics /media/volume/biocgpu2/biocbuild/bbs-3.21-bioc-gpu/R/site-library 0.54.1 4.5.1
BiocIO /media/volume/biocgpu2/biocbuild/bbs-3.21-bioc-gpu/R/site-library 1.18.0 4.5.1
BiocManager /media/volume/biocgpu2/biocbuild/bbs-3.21-bioc-gpu/R/site-library 1.30.26 4.5.1
BiocParallel /media/volume/biocgpu2/biocbuild/bbs-3.21-bioc-gpu/R/site-library 1.42.2 4.5.1
BiocStyle /media/volume/biocgpu2/biocbuild/bbs-3.21-bioc-gpu/R/site-library 2.36.0 4.5.1
BiocVersion /media/volume/biocgpu2/biocbuild/bbs-3.21-bioc-gpu/R/site-library 3.21.1 4.5.1
biocViews /media/volume/biocgpu2/biocbuild/bbs-3.21-bioc-gpu/R/site-library 1.76.0 4.5.1
Biostrings /media/volume/biocgpu2/biocbuild/bbs-3.21-bioc-gpu/R/site-library 2.76.0 4.5.1
bit /media/volume/biocgpu2/biocbuild/bbs-3.21-bioc-gpu/R/site-library 4.6.0 4.5.1
bit64 /media/volume/biocgpu2/biocbuild/bbs-3.21-bioc-gpu/R/site-library 4.6.0-1 4.5.1
bitops /media/volume/biocgpu2/biocbuild/bbs-3.21-bioc-gpu/R/site-library 1.0-9 4.5.1
blob /media/volume/biocgpu2/biocbuild/bbs-3.21-bioc-gpu/R/site-library 1.2.4 4.5.1
bookdown /media/volume/biocgpu2/biocbuild/bbs-3.21-bioc-gpu/R/site-library 0.45 4.5.1
brew /media/volume/biocgpu2/biocbuild/bbs-3.21-bioc-gpu/R/site-library 1.0-10 4.5.1
brio /media/volume/biocgpu2/biocbuild/bbs-3.21-bioc-gpu/R/site-library 1.1.5 4.5.1
BSgenome /media/volume/biocgpu2/biocbuild/bbs-3.21-bioc-gpu/R/site-library 1.76.0 4.5.1
bslib /media/volume/biocgpu2/biocbuild/bbs-3.21-bioc-gpu/R/site-library 0.9.0 4.5.1
cachem /media/volume/biocgpu2/biocbuild/bbs-3.21-bioc-gpu/R/site-library 1.1.0 4.5.1
callr /media/volume/biocgpu2/biocbuild/bbs-3.21-bioc-gpu/R/site-library 3.7.6 4.5.1
cli /media/volume/biocgpu2/biocbuild/bbs-3.21-bioc-gpu/R/site-library 3.6.5 4.5.1
clipr /media/volume/biocgpu2/biocbuild/bbs-3.21-bioc-gpu/R/site-library 0.8.0 4.5.1
commonmark /media/volume/biocgpu2/biocbuild/bbs-3.21-bioc-gpu/R/site-library 2.0.0 4.5.1
cpp11 /media/volume/biocgpu2/biocbuild/bbs-3.21-bioc-gpu/R/site-library 0.5.2 4.5.1
crayon /media/volume/biocgpu2/biocbuild/bbs-3.21-bioc-gpu/R/site-library 1.5.3 4.5.1
credentials /media/volume/biocgpu2/biocbuild/bbs-3.21-bioc-gpu/R/site-library 2.0.3 4.5.1
curl /media/volume/biocgpu2/biocbuild/bbs-3.21-bioc-gpu/R/site-library 7.0.0 4.5.1
DBI /media/volume/biocgpu2/biocbuild/bbs-3.21-bioc-gpu/R/site-library 1.2.3 4.5.1
dbplyr /media/volume/biocgpu2/biocbuild/bbs-3.21-bioc-gpu/R/site-library 2.5.1 4.5.1
DelayedArray /media/volume/biocgpu2/biocbuild/bbs-3.21-bioc-gpu/R/site-library 0.34.1 4.5.1
desc /media/volume/biocgpu2/biocbuild/bbs-3.21-bioc-gpu/R/site-library 1.4.3 4.5.1
devtools /media/volume/biocgpu2/biocbuild/bbs-3.21-bioc-gpu/R/site-library 2.4.6 4.5.1
diffobj /media/volume/biocgpu2/biocbuild/bbs-3.21-bioc-gpu/R/site-library 0.3.6 4.5.1
digest /media/volume/biocgpu2/biocbuild/bbs-3.21-bioc-gpu/R/site-library 0.6.37 4.5.1
downlit /media/volume/biocgpu2/biocbuild/bbs-3.21-bioc-gpu/R/site-library 0.4.4 4.5.1
dplyr /media/volume/biocgpu2/biocbuild/bbs-3.21-bioc-gpu/R/site-library 1.1.4 4.5.1
ellipsis /media/volume/biocgpu2/biocbuild/bbs-3.21-bioc-gpu/R/site-library 0.3.2 4.5.1
evaluate /media/volume/biocgpu2/biocbuild/bbs-3.21-bioc-gpu/R/site-library 1.0.5 4.5.1
fansi /media/volume/biocgpu2/biocbuild/bbs-3.21-bioc-gpu/R/site-library 1.0.6 4.5.1
fastmap /media/volume/biocgpu2/biocbuild/bbs-3.21-bioc-gpu/R/site-library 1.2.0 4.5.1
filelock /media/volume/biocgpu2/biocbuild/bbs-3.21-bioc-gpu/R/site-library 1.0.3 4.5.1
fontawesome /media/volume/biocgpu2/biocbuild/bbs-3.21-bioc-gpu/R/site-library 0.5.3 4.5.1
formatR /media/volume/biocgpu2/biocbuild/bbs-3.21-bioc-gpu/R/site-library 1.14 4.5.1
fs /media/volume/biocgpu2/biocbuild/bbs-3.21-bioc-gpu/R/site-library 1.6.6 4.5.1
futile.logger /media/volume/biocgpu2/biocbuild/bbs-3.21-bioc-gpu/R/site-library 1.4.3 4.5.1
futile.options /media/volume/biocgpu2/biocbuild/bbs-3.21-bioc-gpu/R/site-library 1.0.1 4.5.1
generics /media/volume/biocgpu2/biocbuild/bbs-3.21-bioc-gpu/R/site-library 0.1.4 4.5.1
GenomeInfoDb /media/volume/biocgpu2/biocbuild/bbs-3.21-bioc-gpu/R/site-library 1.44.3 4.5.1
GenomeInfoDbData /media/volume/biocgpu2/biocbuild/bbs-3.21-bioc-gpu/R/site-library 1.2.14 4.5.1
GenomicAlignments /media/volume/biocgpu2/biocbuild/bbs-3.21-bioc-gpu/R/site-library 1.44.0 4.5.1
GenomicFeatures /media/volume/biocgpu2/biocbuild/bbs-3.21-bioc-gpu/R/site-library 1.60.0 4.5.1
GenomicRanges /media/volume/biocgpu2/biocbuild/bbs-3.21-bioc-gpu/R/site-library 1.60.0 4.5.1
gert /media/volume/biocgpu2/biocbuild/bbs-3.21-bioc-gpu/R/site-library 2.1.5 4.5.1
gh /media/volume/biocgpu2/biocbuild/bbs-3.21-bioc-gpu/R/site-library 1.5.0 4.5.1
gitcreds /media/volume/biocgpu2/biocbuild/bbs-3.21-bioc-gpu/R/site-library 0.1.2 4.5.1
glue /media/volume/biocgpu2/biocbuild/bbs-3.21-bioc-gpu/R/site-library 1.8.0 4.5.1
graph /media/volume/biocgpu2/biocbuild/bbs-3.21-bioc-gpu/R/site-library 1.86.0 4.5.1
highr /media/volume/biocgpu2/biocbuild/bbs-3.21-bioc-gpu/R/site-library 0.11 4.5.1
htmltools /media/volume/biocgpu2/biocbuild/bbs-3.21-bioc-gpu/R/site-library 0.5.8.1 4.5.1
htmlwidgets /media/volume/biocgpu2/biocbuild/bbs-3.21-bioc-gpu/R/site-library 1.6.4 4.5.1
httpuv /media/volume/biocgpu2/biocbuild/bbs-3.21-bioc-gpu/R/site-library 1.6.16 4.5.1
httr /media/volume/biocgpu2/biocbuild/bbs-3.21-bioc-gpu/R/site-library 1.4.7 4.5.1
httr2 /media/volume/biocgpu2/biocbuild/bbs-3.21-bioc-gpu/R/site-library 1.2.1 4.5.1
ini /media/volume/biocgpu2/biocbuild/bbs-3.21-bioc-gpu/R/site-library 0.3.1 4.5.1
IRanges /media/volume/biocgpu2/biocbuild/bbs-3.21-bioc-gpu/R/site-library 2.42.0 4.5.1
jquerylib /media/volume/biocgpu2/biocbuild/bbs-3.21-bioc-gpu/R/site-library 0.1.4 4.5.1
jsonlite /media/volume/biocgpu2/biocbuild/bbs-3.21-bioc-gpu/R/site-library 2.0.0 4.5.1
KEGGREST /media/volume/biocgpu2/biocbuild/bbs-3.21-bioc-gpu/R/site-library 1.48.1 4.5.1
knitr /media/volume/biocgpu2/biocbuild/bbs-3.21-bioc-gpu/R/site-library 1.50 4.5.1
lambda.r /media/volume/biocgpu2/biocbuild/bbs-3.21-bioc-gpu/R/site-library 1.2.4 4.5.1
later /media/volume/biocgpu2/biocbuild/bbs-3.21-bioc-gpu/R/site-library 1.4.4 4.5.1
lifecycle /media/volume/biocgpu2/biocbuild/bbs-3.21-bioc-gpu/R/site-library 1.0.4 4.5.1
magrittr /media/volume/biocgpu2/biocbuild/bbs-3.21-bioc-gpu/R/site-library 2.0.4 4.5.1
MatrixGenerics /media/volume/biocgpu2/biocbuild/bbs-3.21-bioc-gpu/R/site-library 1.20.0 4.5.1
matrixStats /media/volume/biocgpu2/biocbuild/bbs-3.21-bioc-gpu/R/site-library 1.5.0 4.5.1
memoise /media/volume/biocgpu2/biocbuild/bbs-3.21-bioc-gpu/R/site-library 2.0.1 4.5.1
mime /media/volume/biocgpu2/biocbuild/bbs-3.21-bioc-gpu/R/site-library 0.13 4.5.1
miniUI /media/volume/biocgpu2/biocbuild/bbs-3.21-bioc-gpu/R/site-library 0.1.2 4.5.1
minqa /media/volume/biocgpu2/biocbuild/bbs-3.21-bioc-gpu/R/site-library 1.2.8 4.5.1
openssl /media/volume/biocgpu2/biocbuild/bbs-3.21-bioc-gpu/R/site-library 2.3.4 4.5.1
pillar /media/volume/biocgpu2/biocbuild/bbs-3.21-bioc-gpu/R/site-library 1.11.1 4.5.1
pkgbuild /media/volume/biocgpu2/biocbuild/bbs-3.21-bioc-gpu/R/site-library 1.4.8 4.5.1
pkgconfig /media/volume/biocgpu2/biocbuild/bbs-3.21-bioc-gpu/R/site-library 2.0.3 4.5.1
pkgdown /media/volume/biocgpu2/biocbuild/bbs-3.21-bioc-gpu/R/site-library 2.1.3 4.5.1
pkgload /media/volume/biocgpu2/biocbuild/bbs-3.21-bioc-gpu/R/site-library 1.4.1 4.5.1
plogr /media/volume/biocgpu2/biocbuild/bbs-3.21-bioc-gpu/R/site-library 0.2.0 4.5.1
png /media/volume/biocgpu2/biocbuild/bbs-3.21-bioc-gpu/R/site-library 0.1-8 4.5.1
praise /media/volume/biocgpu2/biocbuild/bbs-3.21-bioc-gpu/R/site-library 1.0.0 4.5.1
prettyunits /media/volume/biocgpu2/biocbuild/bbs-3.21-bioc-gpu/R/site-library 1.2.0 4.5.1
processx /media/volume/biocgpu2/biocbuild/bbs-3.21-bioc-gpu/R/site-library 3.8.6 4.5.1
profvis /media/volume/biocgpu2/biocbuild/bbs-3.21-bioc-gpu/R/site-library 0.4.0 4.5.1
promises /media/volume/biocgpu2/biocbuild/bbs-3.21-bioc-gpu/R/site-library 1.3.3 4.5.1
ps /media/volume/biocgpu2/biocbuild/bbs-3.21-bioc-gpu/R/site-library 1.9.1 4.5.1
purrr /media/volume/biocgpu2/biocbuild/bbs-3.21-bioc-gpu/R/site-library 1.1.0 4.5.1
R6 /media/volume/biocgpu2/biocbuild/bbs-3.21-bioc-gpu/R/site-library 2.6.1 4.5.1
ragg /media/volume/biocgpu2/biocbuild/bbs-3.21-bioc-gpu/R/site-library 1.5.0 4.5.1
rappdirs /media/volume/biocgpu2/biocbuild/bbs-3.21-bioc-gpu/R/site-library 0.3.3 4.5.1
RBGL /media/volume/biocgpu2/biocbuild/bbs-3.21-bioc-gpu/R/site-library 1.84.0 4.5.1
RbowtieCuda /media/volume/biocgpu2/biocbuild/bbs-3.21-bioc-gpu/R/site-library 1.0.10 4.5.1
rcmdcheck /media/volume/biocgpu2/biocbuild/bbs-3.21-bioc-gpu/R/site-library 1.4.0 4.5.1
Rcpp /media/volume/biocgpu2/biocbuild/bbs-3.21-bioc-gpu/R/site-library 1.1.0 4.5.1
RCurl /media/volume/biocgpu2/biocbuild/bbs-3.21-bioc-gpu/R/site-library 1.98-1.17 4.5.1
remotes /media/volume/biocgpu2/biocbuild/bbs-3.21-bioc-gpu/R/site-library 2.5.0 4.5.1
restfulr /media/volume/biocgpu2/biocbuild/bbs-3.21-bioc-gpu/R/site-library 0.0.16 4.5.1
rhdf5 /media/volume/biocgpu2/biocbuild/bbs-3.21-bioc-gpu/R/site-library 2.52.1 4.5.1
rhdf5filters /media/volume/biocgpu2/biocbuild/bbs-3.21-bioc-gpu/R/site-library 1.20.0 4.5.1
Rhdf5lib /media/volume/biocgpu2/biocbuild/bbs-3.21-bioc-gpu/R/site-library 1.30.0 4.5.1
Rhtslib /media/volume/biocgpu2/biocbuild/bbs-3.21-bioc-gpu/R/site-library 3.4.0 4.5.1
rJava /media/volume/biocgpu2/biocbuild/bbs-3.21-bioc-gpu/R/site-library 1.0-11 4.5.1
rjson /media/volume/biocgpu2/biocbuild/bbs-3.21-bioc-gpu/R/site-library 0.2.23 4.5.1
rlang /media/volume/biocgpu2/biocbuild/bbs-3.21-bioc-gpu/R/site-library 1.1.6 4.5.1
rmarkdown /media/volume/biocgpu2/biocbuild/bbs-3.21-bioc-gpu/R/site-library 2.30 4.5.1
roxygen2 /media/volume/biocgpu2/biocbuild/bbs-3.21-bioc-gpu/R/site-library 7.3.3 4.5.1
rprojroot /media/volume/biocgpu2/biocbuild/bbs-3.21-bioc-gpu/R/site-library 2.1.1 4.5.1
Rsamtools /media/volume/biocgpu2/biocbuild/bbs-3.21-bioc-gpu/R/site-library 2.24.1 4.5.1
RSQLite /media/volume/biocgpu2/biocbuild/bbs-3.21-bioc-gpu/R/site-library 2.4.3 4.5.1
rstudioapi /media/volume/biocgpu2/biocbuild/bbs-3.21-bioc-gpu/R/site-library 0.17.1 4.5.1
rtracklayer /media/volume/biocgpu2/biocbuild/bbs-3.21-bioc-gpu/R/site-library 1.68.0 4.5.1
RUnit /media/volume/biocgpu2/biocbuild/bbs-3.21-bioc-gpu/R/site-library 0.4.33.1 4.5.1
rversions /media/volume/biocgpu2/biocbuild/bbs-3.21-bioc-gpu/R/site-library 3.0.0 4.5.1
rvest /media/volume/biocgpu2/biocbuild/bbs-3.21-bioc-gpu/R/site-library 1.0.5 4.5.1
S4Arrays /media/volume/biocgpu2/biocbuild/bbs-3.21-bioc-gpu/R/site-library 1.8.1 4.5.1
S4Vectors /media/volume/biocgpu2/biocbuild/bbs-3.21-bioc-gpu/R/site-library 0.46.0 4.5.1
sass /media/volume/biocgpu2/biocbuild/bbs-3.21-bioc-gpu/R/site-library 0.4.10 4.5.1
selectr /media/volume/biocgpu2/biocbuild/bbs-3.21-bioc-gpu/R/site-library 0.4-2 4.5.1
sessioninfo /media/volume/biocgpu2/biocbuild/bbs-3.21-bioc-gpu/R/site-library 1.2.3 4.5.1
shiny /media/volume/biocgpu2/biocbuild/bbs-3.21-bioc-gpu/R/site-library 1.11.1 4.5.1
snow /media/volume/biocgpu2/biocbuild/bbs-3.21-bioc-gpu/R/site-library 0.4-4 4.5.1
sourcetools /media/volume/biocgpu2/biocbuild/bbs-3.21-bioc-gpu/R/site-library 0.1.7-1 4.5.1
SparseArray /media/volume/biocgpu2/biocbuild/bbs-3.21-bioc-gpu/R/site-library 1.8.1 4.5.1
stringdist /media/volume/biocgpu2/biocbuild/bbs-3.21-bioc-gpu/R/site-library 0.9.15 4.5.1
stringi /media/volume/biocgpu2/biocbuild/bbs-3.21-bioc-gpu/R/site-library 1.8.7 4.5.1
stringr /media/volume/biocgpu2/biocbuild/bbs-3.21-bioc-gpu/R/site-library 1.5.2 4.5.1
SummarizedExperiment /media/volume/biocgpu2/biocbuild/bbs-3.21-bioc-gpu/R/site-library 1.38.1 4.5.1
sys /media/volume/biocgpu2/biocbuild/bbs-3.21-bioc-gpu/R/site-library 3.4.3 4.5.1
systemfonts /media/volume/biocgpu2/biocbuild/bbs-3.21-bioc-gpu/R/site-library 1.3.1 4.5.1
testthat /media/volume/biocgpu2/biocbuild/bbs-3.21-bioc-gpu/R/site-library 3.2.3 4.5.1
textshaping /media/volume/biocgpu2/biocbuild/bbs-3.21-bioc-gpu/R/site-library 1.0.4 4.5.1
tibble /media/volume/biocgpu2/biocbuild/bbs-3.21-bioc-gpu/R/site-library 3.3.0 4.5.1
tidyr /media/volume/biocgpu2/biocbuild/bbs-3.21-bioc-gpu/R/site-library 1.3.1 4.5.1
tidyselect /media/volume/biocgpu2/biocbuild/bbs-3.21-bioc-gpu/R/site-library 1.2.1 4.5.1
tinytex /media/volume/biocgpu2/biocbuild/bbs-3.21-bioc-gpu/R/site-library 0.57 4.5.1
UCSC.utils /media/volume/biocgpu2/biocbuild/bbs-3.21-bioc-gpu/R/site-library 1.4.0 4.5.1
urlchecker /media/volume/biocgpu2/biocbuild/bbs-3.21-bioc-gpu/R/site-library 1.0.1 4.5.1
usethis /media/volume/biocgpu2/biocbuild/bbs-3.21-bioc-gpu/R/site-library 3.2.1 4.5.1
utf8 /media/volume/biocgpu2/biocbuild/bbs-3.21-bioc-gpu/R/site-library 1.2.6 4.5.1
VariantAnnotation /media/volume/biocgpu2/biocbuild/bbs-3.21-bioc-gpu/R/site-library 1.54.1 4.5.1
vctrs /media/volume/biocgpu2/biocbuild/bbs-3.21-bioc-gpu/R/site-library 0.6.5 4.5.1
waldo /media/volume/biocgpu2/biocbuild/bbs-3.21-bioc-gpu/R/site-library 0.6.2 4.5.1
whisker /media/volume/biocgpu2/biocbuild/bbs-3.21-bioc-gpu/R/site-library 0.4.1 4.5.1
withr /media/volume/biocgpu2/biocbuild/bbs-3.21-bioc-gpu/R/site-library 3.0.2 4.5.1
xfun /media/volume/biocgpu2/biocbuild/bbs-3.21-bioc-gpu/R/site-library 0.53 4.5.1
XML /media/volume/biocgpu2/biocbuild/bbs-3.21-bioc-gpu/R/site-library 3.99-0.19 4.5.1
xml2 /media/volume/biocgpu2/biocbuild/bbs-3.21-bioc-gpu/R/site-library 1.4.0 4.5.1
xopen /media/volume/biocgpu2/biocbuild/bbs-3.21-bioc-gpu/R/site-library 1.0.1 4.5.1
xtable /media/volume/biocgpu2/biocbuild/bbs-3.21-bioc-gpu/R/site-library 1.8-4 4.5.1
XVector /media/volume/biocgpu2/biocbuild/bbs-3.21-bioc-gpu/R/site-library 0.48.0 4.5.1
yaml /media/volume/biocgpu2/biocbuild/bbs-3.21-bioc-gpu/R/site-library 2.3.10 4.5.1
zip /media/volume/biocgpu2/biocbuild/bbs-3.21-bioc-gpu/R/site-library 2.3.3 4.5.1
base /media/volume/biocgpu2/biocbuild/bbs-3.21-bioc-gpu/R/library 4.5.1 4.5.1
boot /media/volume/biocgpu2/biocbuild/bbs-3.21-bioc-gpu/R/library 1.3-32 4.5.1
class /media/volume/biocgpu2/biocbuild/bbs-3.21-bioc-gpu/R/library 7.3-23 4.5.1
cluster /media/volume/biocgpu2/biocbuild/bbs-3.21-bioc-gpu/R/library 2.1.8.1 4.5.1
codetools /media/volume/biocgpu2/biocbuild/bbs-3.21-bioc-gpu/R/library 0.2-20 4.5.1
compiler /media/volume/biocgpu2/biocbuild/bbs-3.21-bioc-gpu/R/library 4.5.1 4.5.1
datasets /media/volume/biocgpu2/biocbuild/bbs-3.21-bioc-gpu/R/library 4.5.1 4.5.1
foreign /media/volume/biocgpu2/biocbuild/bbs-3.21-bioc-gpu/R/library 0.8-90 4.5.1
graphics /media/volume/biocgpu2/biocbuild/bbs-3.21-bioc-gpu/R/library 4.5.1 4.5.1
grDevices /media/volume/biocgpu2/biocbuild/bbs-3.21-bioc-gpu/R/library 4.5.1 4.5.1
grid /media/volume/biocgpu2/biocbuild/bbs-3.21-bioc-gpu/R/library 4.5.1 4.5.1
KernSmooth /media/volume/biocgpu2/biocbuild/bbs-3.21-bioc-gpu/R/library 2.23-26 4.5.1
lattice /media/volume/biocgpu2/biocbuild/bbs-3.21-bioc-gpu/R/library 0.22-7 4.5.1
MASS /media/volume/biocgpu2/biocbuild/bbs-3.21-bioc-gpu/R/library 7.3-65 4.5.1
Matrix /media/volume/biocgpu2/biocbuild/bbs-3.21-bioc-gpu/R/library 1.7-4 4.5.1
methods /media/volume/biocgpu2/biocbuild/bbs-3.21-bioc-gpu/R/library 4.5.1 4.5.1
mgcv /media/volume/biocgpu2/biocbuild/bbs-3.21-bioc-gpu/R/library 1.9-3 4.5.1
nlme /media/volume/biocgpu2/biocbuild/bbs-3.21-bioc-gpu/R/library 3.1-168 4.5.1
nnet /media/volume/biocgpu2/biocbuild/bbs-3.21-bioc-gpu/R/library 7.3-20 4.5.1
parallel /media/volume/biocgpu2/biocbuild/bbs-3.21-bioc-gpu/R/library 4.5.1 4.5.1
rpart /media/volume/biocgpu2/biocbuild/bbs-3.21-bioc-gpu/R/library 4.1.24 4.5.1
spatial /media/volume/biocgpu2/biocbuild/bbs-3.21-bioc-gpu/R/library 7.3-18 4.5.1
splines /media/volume/biocgpu2/biocbuild/bbs-3.21-bioc-gpu/R/library 4.5.1 4.5.1
stats /media/volume/biocgpu2/biocbuild/bbs-3.21-bioc-gpu/R/library 4.5.1 4.5.1
stats4 /media/volume/biocgpu2/biocbuild/bbs-3.21-bioc-gpu/R/library 4.5.1 4.5.1
survival /media/volume/biocgpu2/biocbuild/bbs-3.21-bioc-gpu/R/library 3.8-3 4.5.1
tcltk /media/volume/biocgpu2/biocbuild/bbs-3.21-bioc-gpu/R/library 4.5.1 4.5.1
tools /media/volume/biocgpu2/biocbuild/bbs-3.21-bioc-gpu/R/library 4.5.1 4.5.1
utils /media/volume/biocgpu2/biocbuild/bbs-3.21-bioc-gpu/R/library 4.5.1 4.5.1