Package: RbowtieCuda Version: 1.0.10 Command: /home/biocbuild/bbs-3.21-bioc-gpu/R/bin/R CMD check --install=check:RbowtieCuda.install-out.txt --library=/home/biocbuild/bbs-3.21-bioc-gpu/R/site-library --timings RbowtieCuda_1.0.10.tar.gz StartedAt: 2025-10-16 08:50:57 -0000 (Thu, 16 Oct 2025) EndedAt: 2025-10-16 08:52:11 -0000 (Thu, 16 Oct 2025) EllapsedTime: 74.0 seconds RetCode: 0 Status: OK CheckDir: RbowtieCuda.Rcheck Warnings: 0