Package: RbowtieCuda Version: 1.0.10 Command: /home/biocbuild/bbs-3.21-bioc-gpu/R/bin/R CMD build --keep-empty-dirs --no-resave-data RbowtieCuda StartedAt: 2025-10-16 04:49:20 -0400 (Thu, 16 Oct 2025) EndedAt: 2025-10-16 04:53:54 -0400 (Thu, 16 Oct 2025) EllapsedTime: 273.1 seconds RetCode: 0 Status: OK PackageFile: RbowtieCuda_1.0.10.tar.gz PackageFileSize: 27.95 MiB