Package: zitools Version: 1.2.0 Command: /Library/Frameworks/R.framework/Resources/bin/R CMD build --keep-empty-dirs --no-resave-data zitools StartedAt: 2025-04-21 18:00:22 -0400 (Mon, 21 Apr 2025) EndedAt: 2025-04-21 18:01:12 -0400 (Mon, 21 Apr 2025) EllapsedTime: 50.2 seconds RetCode: 0 Status: OK PackageFile: zitools_1.2.0.tar.gz PackageFileSize: 241.4 KiB