Package: zinbwave Version: 1.30.0 Command: rm -rf zinbwave.buildbin-libdir && mkdir zinbwave.buildbin-libdir && /Users/biocbuild/BBS/utils/build-universal.sh zinbwave_1.30.0.tar.gz /Library/Frameworks/R.framework/Resources/bin/R zinbwave.buildbin-libdir StartedAt: 2025-10-15 21:04:04 -0400 (Wed, 15 Oct 2025) EndedAt: 2025-10-15 21:04:47 -0400 (Wed, 15 Oct 2025) EllapsedTime: 43.1 seconds RetCode: 0 Status: OK PackageFile: zinbwave_1.30.0.tgz PackageFileSize: 1.019 MiB