Package: yarn Version: 1.34.0 Command: chmod a+r yarn -R && E:\biocbuild\bbs-3.21-bioc\R\bin\R.exe CMD build --keep-empty-dirs --no-resave-data yarn StartedAt: 2025-08-14 23:00:23 -0400 (Thu, 14 Aug 2025) EndedAt: 2025-08-14 23:02:11 -0400 (Thu, 14 Aug 2025) EllapsedTime: 108.5 seconds RetCode: 0 Status: OK PackageFile: yarn_1.34.0.tar.gz PackageFileSize: 2.975 MiB