Package: yarn Version: 1.34.0 Command: /home/biocbuild/bbs-3.21-bioc/R/bin/R CMD INSTALL yarn StartedAt: 2025-10-15 15:46:13 -0400 (Wed, 15 Oct 2025) EndedAt: 2025-10-15 15:47:01 -0400 (Wed, 15 Oct 2025) EllapsedTime: 48.3 seconds RetCode: 0 Status: OK