Package: yarn Version: 1.34.0 Command: /home/biocbuild/bbs-3.21-bioc/R/bin/R CMD check --install=check:yarn.install-out.txt --library=/home/biocbuild/bbs-3.21-bioc/R/site-library --timings yarn_1.34.0.tar.gz StartedAt: 2025-10-16 04:53:42 -0400 (Thu, 16 Oct 2025) EndedAt: 2025-10-16 05:00:13 -0400 (Thu, 16 Oct 2025) EllapsedTime: 391.1 seconds RetCode: 0 Status: OK CheckDir: yarn.Rcheck Warnings: 0