Package: yarn Version: 1.34.0 Command: /Library/Frameworks/R.framework/Resources/bin/R CMD build --keep-empty-dirs --no-resave-data yarn StartedAt: 2025-10-13 23:37:45 -0400 (Mon, 13 Oct 2025) EndedAt: 2025-10-13 23:40:20 -0400 (Mon, 13 Oct 2025) EllapsedTime: 155.2 seconds RetCode: 0 Status: OK PackageFile: yarn_1.34.0.tar.gz PackageFileSize: 2.973 MiB