Package: yarn Version: 1.34.0 Command: /home/biocbuild/R/R/bin/R CMD check --install=check:yarn.install-out.txt --library=/home/biocbuild/R/R/site-library --no-vignettes --timings yarn_1.34.0.tar.gz StartedAt: 2025-08-12 15:09:57 -0000 (Tue, 12 Aug 2025) EndedAt: 2025-08-12 15:17:58 -0000 (Tue, 12 Aug 2025) EllapsedTime: 481.2 seconds RetCode: 0 Status: OK CheckDir: yarn.Rcheck Warnings: 0