Package: yarn Version: 1.34.0 Command: rm -rf yarn.buildbin-libdir && mkdir yarn.buildbin-libdir && /Users/biocbuild/BBS/utils/build-universal.sh yarn_1.34.0.tar.gz /Library/Frameworks/R.framework/Resources/bin/R yarn.buildbin-libdir StartedAt: 2025-04-21 22:56:56 -0400 (Mon, 21 Apr 2025) EndedAt: 2025-04-21 22:57:18 -0400 (Mon, 21 Apr 2025) EllapsedTime: 21.7 seconds RetCode: 0 Status: OK PackageFile: yarn_1.34.0.tgz PackageFileSize: 4.118 MiB