Package: yarn Version: 1.34.0 Command: /Library/Frameworks/R.framework/Resources/bin/R CMD INSTALL yarn StartedAt: 2025-10-13 17:33:53 -0400 (Mon, 13 Oct 2025) EndedAt: 2025-10-13 17:34:53 -0400 (Mon, 13 Oct 2025) EllapsedTime: 60.3 seconds RetCode: 0 Status: OK