Package: yamss Version: 1.34.1 Command: /Library/Frameworks/R.framework/Resources/bin/R CMD check --install=check:yamss.install-out.txt --library=/Library/Frameworks/R.framework/Resources/library --no-vignettes --timings yamss_1.34.1.tar.gz StartedAt: 2025-10-14 12:22:36 -0400 (Tue, 14 Oct 2025) EndedAt: 2025-10-14 12:29:57 -0400 (Tue, 14 Oct 2025) EllapsedTime: 440.7 seconds RetCode: 0 Status: OK CheckDir: yamss.Rcheck Warnings: 0