Package: yamss Version: 1.34.1 Command: rm -rf yamss.buildbin-libdir && mkdir yamss.buildbin-libdir && /Users/biocbuild/BBS/utils/build-universal.sh yamss_1.34.1.tar.gz /Library/Frameworks/R.framework/Resources/bin/R yamss.buildbin-libdir StartedAt: 2025-10-14 15:04:31 -0400 (Tue, 14 Oct 2025) EndedAt: 2025-10-14 15:05:36 -0400 (Tue, 14 Oct 2025) EllapsedTime: 65.5 seconds RetCode: 0 Status: OK PackageFile: yamss_1.34.1.tgz PackageFileSize: 735 KiB