Package: yamss Version: 1.34.0 Command: rm -rf yamss.buildbin-libdir && mkdir yamss.buildbin-libdir && /Users/biocbuild/BBS/utils/build-universal.sh yamss_1.34.0.tar.gz /Library/Frameworks/R.framework/Resources/bin/R yamss.buildbin-libdir StartedAt: 2025-04-22 01:15:36 -0400 (Tue, 22 Apr 2025) EndedAt: 2025-04-22 01:16:10 -0400 (Tue, 22 Apr 2025) EllapsedTime: 33.8 seconds RetCode: 0 Status: OK PackageFile: yamss_1.34.0.tgz PackageFileSize: 734.6 KiB