Package: yamss Version: 1.34.1 Command: /Library/Frameworks/R.framework/Resources/bin/R CMD INSTALL yamss StartedAt: 2025-10-13 16:07:21 -0400 (Mon, 13 Oct 2025) EndedAt: 2025-10-13 16:07:53 -0400 (Mon, 13 Oct 2025) EllapsedTime: 31.6 seconds RetCode: 0 Status: OK