Package: xmapbridge Version: 1.66.0 Command: /Library/Frameworks/R.framework/Resources/bin/R CMD check --install=check:xmapbridge.install-out.txt --library=/Library/Frameworks/R.framework/Resources/library --no-vignettes --timings xmapbridge_1.66.0.tar.gz StartedAt: 2025-10-14 12:21:43 -0400 (Tue, 14 Oct 2025) EndedAt: 2025-10-14 12:22:35 -0400 (Tue, 14 Oct 2025) EllapsedTime: 52.0 seconds RetCode: 0 Status: OK CheckDir: xmapbridge.Rcheck Warnings: 0