Package: xmapbridge Version: 1.66.0 Command: /Library/Frameworks/R.framework/Resources/bin/R CMD build --keep-empty-dirs --no-resave-data xmapbridge StartedAt: 2025-10-14 12:03:52 -0400 (Tue, 14 Oct 2025) EndedAt: 2025-10-14 12:04:32 -0400 (Tue, 14 Oct 2025) EllapsedTime: 39.4 seconds RetCode: 0 Status: OK PackageFile: xmapbridge_1.66.0.tar.gz PackageFileSize: 3.019 MiB