Package: xcore Version: 1.12.0 Command: /home/biocbuild/bbs-3.21-bioc/R/bin/R CMD build --keep-empty-dirs --no-resave-data xcore StartedAt: 2025-10-15 20:32:33 -0400 (Wed, 15 Oct 2025) EndedAt: 2025-10-15 20:34:00 -0400 (Wed, 15 Oct 2025) EllapsedTime: 87.1 seconds RetCode: 0 Status: OK PackageFile: xcore_1.12.0.tar.gz PackageFileSize: 2.408 MiB