Package: xcore Version: 1.12.0 Command: /Library/Frameworks/R.framework/Resources/bin/R CMD INSTALL xcore StartedAt: 2025-10-13 15:35:23 -0400 (Mon, 13 Oct 2025) EndedAt: 2025-10-13 15:36:15 -0400 (Mon, 13 Oct 2025) EllapsedTime: 51.3 seconds RetCode: 0 Status: OK