Package: xcore Version: 1.12.0 Command: /Library/Frameworks/R.framework/Resources/bin/R CMD check --install=check:xcore.install-out.txt --library=/Library/Frameworks/R.framework/Resources/library --no-vignettes --timings xcore_1.12.0.tar.gz StartedAt: 2025-10-14 12:18:14 -0400 (Tue, 14 Oct 2025) EndedAt: 2025-10-14 12:29:35 -0400 (Tue, 14 Oct 2025) EllapsedTime: 680.7 seconds RetCode: 0 Status: OK CheckDir: xcore.Rcheck Warnings: 0