Package: xcore Version: 1.12.0 Command: /Library/Frameworks/R.framework/Resources/bin/R CMD build --keep-empty-dirs --no-resave-data xcore StartedAt: 2025-10-13 23:35:46 -0400 (Mon, 13 Oct 2025) EndedAt: 2025-10-13 23:38:29 -0400 (Mon, 13 Oct 2025) EllapsedTime: 163.5 seconds RetCode: 0 Status: OK PackageFile: xcore_1.12.0.tar.gz PackageFileSize: 2.407 MiB