Package: xcore Version: 1.12.0 Command: rm -rf xcore.buildbin-libdir && mkdir xcore.buildbin-libdir && /Users/biocbuild/BBS/utils/build-universal.sh xcore_1.12.0.tar.gz /Library/Frameworks/R.framework/Resources/bin/R xcore.buildbin-libdir StartedAt: 2025-10-14 15:03:47 -0400 (Tue, 14 Oct 2025) EndedAt: 2025-10-14 15:04:46 -0400 (Tue, 14 Oct 2025) EllapsedTime: 59.5 seconds RetCode: 0 Status: OK PackageFile: xcore_1.12.0.tgz PackageFileSize: 1.911 MiB