Package: xcore Version: 1.12.0 Command: /Library/Frameworks/R.framework/Resources/bin/R CMD check --install=check:xcore.install-out.txt --library=/Library/Frameworks/R.framework/Resources/library --no-vignettes --timings xcore_1.12.0.tar.gz StartedAt: 2025-04-22 00:22:28 -0400 (Tue, 22 Apr 2025) EndedAt: 2025-04-22 00:29:22 -0400 (Tue, 22 Apr 2025) EllapsedTime: 414.0 seconds RetCode: 0 Status: OK CheckDir: xcore.Rcheck Warnings: 0