Package: xcms Version: 4.6.4 Command: /home/biocbuild/bbs-3.21-bioc/R/bin/R CMD check --install=check:xcms.install-out.txt --library=/home/biocbuild/bbs-3.21-bioc/R/site-library --timings xcms_4.6.4.tar.gz StartedAt: 2025-10-16 04:50:51 -0400 (Thu, 16 Oct 2025) EndedAt: 2025-10-16 05:14:55 -0400 (Thu, 16 Oct 2025) EllapsedTime: 1443.7 seconds RetCode: 0 Status: OK CheckDir: xcms.Rcheck Warnings: 0