Package: xcms Version: 4.6.4 Command: /Library/Frameworks/R.framework/Resources/bin/R CMD build --keep-empty-dirs --no-resave-data xcms StartedAt: 2025-10-13 23:35:41 -0400 (Mon, 13 Oct 2025) EndedAt: 2025-10-13 23:44:03 -0400 (Mon, 13 Oct 2025) EllapsedTime: 502.1 seconds RetCode: 0 Status: OK PackageFile: xcms_4.6.4.tar.gz PackageFileSize: 9.302 MiB