Package: xcms Version: 4.6.4 Command: /home/biocbuild/R/R/bin/R CMD INSTALL xcms StartedAt: 2025-10-13 20:58:54 -0000 (Mon, 13 Oct 2025) EndedAt: 2025-10-13 21:01:19 -0000 (Mon, 13 Oct 2025) EllapsedTime: 144.5 seconds RetCode: 0 Status: OK