Package: xcms Version: 4.6.4 Command: /home/biocbuild/R/R/bin/R CMD build --keep-empty-dirs --no-resave-data xcms StartedAt: 2025-10-14 05:45:06 -0000 (Tue, 14 Oct 2025) EndedAt: 2025-10-14 05:52:09 -0000 (Tue, 14 Oct 2025) EllapsedTime: 422.9 seconds RetCode: 0 Status: OK PackageFile: xcms_4.6.4.tar.gz PackageFileSize: 8.832 MiB