Package: xcms Version: 4.5.4 Command: /Library/Frameworks/R.framework/Resources/bin/R CMD check --install=check:xcms.install-out.txt --library=/Library/Frameworks/R.framework/Resources/library --no-vignettes --timings xcms_4.5.4.tar.gz StartedAt: 2025-04-09 22:23:54 -0400 (Wed, 09 Apr 2025) EndedAt: 2025-04-09 22:32:02 -0400 (Wed, 09 Apr 2025) EllapsedTime: 487.3 seconds RetCode: 0 Status: OK CheckDir: xcms.Rcheck Warnings: 0