Package: xCell2 Version: 1.0.9 Command: E:\biocbuild\bbs-3.21-bioc\R\bin\R.exe CMD check --no-multiarch --install=check:xCell2.install-out.txt --library=E:\biocbuild\bbs-3.21-bioc\R\library --no-vignettes --timings xCell2_1.0.9.tar.gz StartedAt: 2025-08-15 08:17:32 -0400 (Fri, 15 Aug 2025) EndedAt: 2025-08-15 08:25:07 -0400 (Fri, 15 Aug 2025) EllapsedTime: 454.1 seconds RetCode: 0 Status: OK CheckDir: xCell2.Rcheck Warnings: 0