Package: xCell2 Version: 1.0.11 Command: /home/biocbuild/bbs-3.21-bioc/R/bin/R CMD check --install=check:xCell2.install-out.txt --library=/home/biocbuild/bbs-3.21-bioc/R/site-library --timings xCell2_1.0.11.tar.gz StartedAt: 2025-10-16 04:50:48 -0400 (Thu, 16 Oct 2025) EndedAt: 2025-10-16 05:00:16 -0400 (Thu, 16 Oct 2025) EllapsedTime: 568.0 seconds RetCode: 0 Status: OK CheckDir: xCell2.Rcheck Warnings: 0