Package: xCell2 Version: 1.0.11 Maintainer: Almog Angel MaintainerEmail: almog.angel at campus.technion.ac.il git_url: https://git.bioconductor.org/packages/xCell2 git_branch: RELEASE_3_21 git_last_commit: 29625b7 git_last_commit_date: 2025-10-06 06:26:25 -0400 (Mon, 06 Oct 2025)