Package: wppi Version: 1.16.0 Command: rm -rf wppi.buildbin-libdir && mkdir wppi.buildbin-libdir && E:\biocbuild\bbs-3.21-bioc\R\bin\R.exe CMD INSTALL --build --library=wppi.buildbin-libdir wppi_1.16.0.tar.gz StartedAt: 2025-08-15 10:34:54 -0400 (Fri, 15 Aug 2025) EndedAt: 2025-08-15 10:35:22 -0400 (Fri, 15 Aug 2025) EllapsedTime: 27.8 seconds RetCode: 0 Status: OK PackageFile: wppi_1.16.0.zip PackageFileSize: 304 KiB