Package: wpm Version: 1.18.0 Command: rm -rf wpm.buildbin-libdir && mkdir wpm.buildbin-libdir && E:\biocbuild\bbs-3.21-bioc\R\bin\R.exe CMD INSTALL --build --library=wpm.buildbin-libdir wpm_1.18.0.tar.gz StartedAt: 2025-08-15 10:34:53 -0400 (Fri, 15 Aug 2025) EndedAt: 2025-08-15 10:35:12 -0400 (Fri, 15 Aug 2025) EllapsedTime: 19.1 seconds RetCode: 0 Status: OK PackageFile: wpm_1.18.0.zip PackageFileSize: 1.806 MiB