Package: wpm Version: 1.18.0 Command: /Library/Frameworks/R.framework/Resources/bin/R CMD INSTALL wpm StartedAt: 2025-10-13 15:37:49 -0400 (Mon, 13 Oct 2025) EndedAt: 2025-10-13 15:37:58 -0400 (Mon, 13 Oct 2025) EllapsedTime: 8.6 seconds RetCode: 0 Status: OK