Package: wpm Version: 1.18.0 Command: /home/biocbuild/R/R/bin/R CMD INSTALL wpm StartedAt: 2025-10-13 20:31:44 -0000 (Mon, 13 Oct 2025) EndedAt: 2025-10-13 20:31:49 -0000 (Mon, 13 Oct 2025) EllapsedTime: 5.0 seconds RetCode: 0 Status: OK