Package: wpm Version: 1.18.0 Command: /home/biocbuild/R/R/bin/R CMD build --keep-empty-dirs --no-resave-data wpm StartedAt: 2025-10-14 05:44:28 -0000 (Tue, 14 Oct 2025) EndedAt: 2025-10-14 05:44:59 -0000 (Tue, 14 Oct 2025) EllapsedTime: 31.0 seconds RetCode: 0 Status: OK PackageFile: wpm_1.18.0.tar.gz PackageFileSize: 2.474 MiB