Package: wpm Version: 1.18.0 Command: /Library/Frameworks/R.framework/Resources/bin/R CMD INSTALL wpm StartedAt: 2025-10-13 16:19:45 -0400 (Mon, 13 Oct 2025) EndedAt: 2025-10-13 16:19:49 -0400 (Mon, 13 Oct 2025) EllapsedTime: 4.1 seconds RetCode: 0 Status: OK