Package: weitrix Version: 1.20.0 Command: rm -rf weitrix.buildbin-libdir && mkdir weitrix.buildbin-libdir && E:\biocbuild\bbs-3.21-bioc\R\bin\R.exe CMD INSTALL --build --library=weitrix.buildbin-libdir weitrix_1.20.0.tar.gz StartedAt: 2025-08-15 10:34:39 -0400 (Fri, 15 Aug 2025) EndedAt: 2025-08-15 10:35:26 -0400 (Fri, 15 Aug 2025) EllapsedTime: 47.6 seconds RetCode: 0 Status: OK PackageFile: weitrix_1.20.0.zip PackageFileSize: 5.6 MiB