Package: weitrix Version: 1.20.0 Command: /home/biocbuild/bbs-3.21-bioc/R/bin/R CMD check --install=check:weitrix.install-out.txt --library=/home/biocbuild/bbs-3.21-bioc/R/site-library --timings weitrix_1.20.0.tar.gz StartedAt: 2025-10-16 04:49:24 -0400 (Thu, 16 Oct 2025) EndedAt: 2025-10-16 05:03:20 -0400 (Thu, 16 Oct 2025) EllapsedTime: 836.7 seconds RetCode: 0 Status: OK CheckDir: weitrix.Rcheck Warnings: 0