Package: webbioc Version: 1.80.0 Command: E:\biocbuild\bbs-3.21-bioc\R\bin\R.exe CMD check --no-multiarch --install=check:webbioc.install-out.txt --library=E:\biocbuild\bbs-3.21-bioc\R\library --no-vignettes --timings webbioc_1.80.0.tar.gz StartedAt: 2025-08-15 08:15:53 -0400 (Fri, 15 Aug 2025) EndedAt: 2025-08-15 08:17:58 -0400 (Fri, 15 Aug 2025) EllapsedTime: 124.9 seconds RetCode: 0 Status: OK CheckDir: webbioc.Rcheck Warnings: 0