Package: weaver Version: 1.74.0 Command: rm -rf weaver.buildbin-libdir && mkdir weaver.buildbin-libdir && E:\biocbuild\bbs-3.21-bioc\R\bin\R.exe CMD INSTALL --build --library=weaver.buildbin-libdir weaver_1.74.0.tar.gz StartedAt: 2025-08-15 10:34:35 -0400 (Fri, 15 Aug 2025) EndedAt: 2025-08-15 10:34:43 -0400 (Fri, 15 Aug 2025) EllapsedTime: 8.6 seconds RetCode: 0 Status: OK PackageFile: weaver_1.74.0.zip PackageFileSize: 130.5 KiB